BEGIN:VCALENDAR
VERSION:2.0
PRODID:-//ChamberMaster//Event Calendar 2.0//EN
METHOD:PUBLISH
X-PUBLISHED-TTL:P1H
REFRESH-INTERVAL:P1H
CALSCALE:GREGORIAN
BEGIN:VTIMEZONE
TZID:America/New_York
BEGIN:DAYLIGHT
RRULE:FREQ=YEARLY;BYMONTH=3;BYDAY=2SU
DTSTART:20070101T000000
TZOFFSETFROM:-0500
TZOFFSETTO:-0400
TZNAME:Eastern Daylight Time
END:DAYLIGHT
BEGIN:STANDARD
RRULE:FREQ=YEARLY;BYMONTH=11;BYDAY=1SU
DTSTART:20070101T000000
TZOFFSETFROM:-0400
TZOFFSETTO:-0500
TZNAME:Eastern Standard Time
END:STANDARD
END:VTIMEZONE
BEGIN:VEVENT
DTSTART;TZID=America/New_York:20260513T140000
DTEND;TZID=America/New_York:20260513T150000
X-MICROSOFT-CDO-ALLDAYEVENT:FALSE
SUMMARY:Virtual Exchange Series: Implications of AIFMD2
DESCRIPTION:The NAREIM Virtual Exchange Series is a new set of short\, interactive discussions by members for members around timely operational topics and peer insights. Once registered\, participants will receive an Outlook calendar invitation directly from NAREIM. ZOOM dial-in details will be shared one week prior to the meeting.This meeting will not be recorded.\nDETAILSWednesday\, May 13\nLocation: ZOOM Link\nTime: 2:00pm - 3:00pm ET\n\nAGENDA Welcome RemarksKatie Maher\, Deputy Chief Compliance Officer\, Cabot PropertiesJeff Jacobs\, Chief Legal Officer\, PGIM Real EstatePresentation: AIFMD2 - Implications for U.S.-Based Investment Managers\nThe European Union's Alternative Investment Managers Directive (AIFMD) has undergone a review process and the amended Directive\, AIFMD2\, came into force on April 15\, 2024\, requiring implementation by European Economic Area (EEA) member states by April 16\, 2026. Although AIFMD2 does not constitute a complete overhaul of the original rules\, it affects several aspects of real estate investment management for non-EU managers and sponsors with EU investors or fund structures. The presentation will focus on these key impacts\, including marketing under the National Private Placement Regime\, investor and regulatory reporting requirements\, and 'liquidity management' requirements.Speakers:Justin Cornelius\, Partner\, Goodwin ProcterAndrew Henderson\, Partner\, Goodwin ProcterDiscussion: What Are You Seeing?\nAttendees will be invited to share how their firms are interpreting AIFMD2 requirements and what changes they are implementing to fund structuring and fundraising strategies. Peer-to-peer sharing will be encouraged to surface key implementation challenges including areas of regulatory ambiguity\, operational complexity\, and divergent market practices while highlighting where further regulatory guidance or industry consensus is still needed.Virtual Exchange AdjournsNote: The 2026 Legal\, Compliance & Risk committee will soon come together to begin planning the group's annual in-person meeting\, which will take place in New York City on November 4\, 2026. Registration is open.
X-ALT-DESC;FMTTYPE=text/html:<!DOCTYPE html><html><head><title></title></head><body aria-disabled="false"><p><meta charset="utf-8"></p><p><span data-teams="true"><strong fr-original-style="" style="font-weight: 700\;"><span style="font-size: 18px\; font-family: Tahoma\, Geneva\, sans-serif\;">The NAREIM Virtual Exchange Series&nbsp\;</span></strong><span style="font-size: 18px\; font-family: Tahoma\, Geneva\, sans-serif\;">is a new set of short\, interactive discussions by members for members around timely operational topics and peer insights.&nbsp\;</span></span></p><p><span style="font-size: 18px\;"><span style="font-family: Tahoma\,Geneva\,sans-serif\;">Once registered\, participants will receive an Outlook calendar invitation directly from NAREIM. ZOOM dial-in details will be shared one week prior to the meeting.</span></span></p><p><span style="font-family: Tahoma\, Geneva\, sans-serif\; font-size: 18px\;">This meeting will not be recorded.</span></p><p><br></p><p><meta charset="utf-8"></p><p style="box-sizing: border-box\; margin: 0px 0px 1rem\; color: rgb(61\, 61\, 61)\; font-family: Archivo\, sans-serif\; font-size: 16px\; font-style: normal\; font-variant-ligatures: normal\; font-variant-caps: normal\; font-weight: 300\; letter-spacing: normal\; orphans: 2\; text-indent: 0px\; text-transform: none\; widows: 2\; word-spacing: 0px\; -webkit-text-stroke-width: 0px\; white-space: normal\; background-color: rgb(255\, 255\, 255)\; text-decoration-thickness: initial\; text-decoration-style: initial\; text-decoration-color: initial\; text-align: center\;"><span style="box-sizing: border-box\; font-family: Tahoma\, Geneva\, sans-serif\;"><span style="box-sizing: border-box\; font-size: 24px\;"><strong fr-original-style="box-sizing: border-box\; font-weight: 700\;" style="box-sizing: border-box\; font-weight: 700\;"><span style="box-sizing: border-box\; color: rgb(0\, 38\, 92)\;">DETAILS</span></strong></span></span></p><p><span style="font-family: Tahoma\,Geneva\,sans-serif\;"><span style="font-size: 18px\;"><span style="color: rgb(13\, 97\, 79)\;"><strong fr-original-style="" style="font-weight: 700\;"><span style="box-sizing: border-box\; color: rgb(0\, 0\, 0)\; font-family: Tahoma\, Geneva\, sans-serif\; font-size: 18px\; font-style: normal\; font-variant-ligatures: normal\; font-variant-caps: normal\; font-weight: 400\; letter-spacing: normal\; orphans: 2\; text-align: start\; text-indent: 0px\; text-transform: none\; widows: 2\; word-spacing: 0px\; -webkit-text-stroke-width: 0px\; white-space: normal\; text-decoration-thickness: initial\; text-decoration-style: initial\; text-decoration-color: initial\; float: none\; display: inline !important\;box-sizing: border-box\; font-family: Archivo\, sans-serif\; font-size: 18px\; font-style: normal\; font-variant-ligatures: normal\; font-variant-caps: normal\; font-weight: 300\; letter-spacing: normal\; orphans: 2\; text-align: left\; text-indent: 0px\; text-transform: none\; widows: 2\; word-spacing: 0px\; -webkit-text-stroke-width: 0px\; white-space: normal\; background-color: rgb(255\, 255\, 255)\; text-decoration-thickness: initial\; text-decoration-style: initial\; text-decoration-color: initial\; color: rgb(0\, 38\, 92)\;"><strong fr-original-style="box-sizing: border-box\; font-weight: 700\;" style="box-sizing: border-box\; font-weight: 700\;"><span style="font-family: Tahoma\,Geneva\,sans-serif\;"><span style="font-size: 18px\;"><span style="color: rgb(13\, 97\, 79)\;"><strong fr-original-style="" style="font-weight: 700\;"><span style="box-sizing: border-box\; color: rgb(0\, 0\, 0)\; font-family: Tahoma\, Geneva\, sans-serif\; font-size: 18px\; font-style: normal\; font-variant-ligatures: normal\; font-variant-caps: normal\; font-weight: 400\; letter-spacing: normal\; orphans: 2\; text-align: start\; text-indent: 0px\; text-transform: none\; widows: 2\; word-spacing: 0px\; -webkit-text-stroke-width: 0px\; white-space: normal\; text-decoration-thickness: initial\; text-decoration-style: initial\; text-decoration-color: initial\; float: none\; display: inline !important\;box-sizing: border-box\; font-family: Archivo\, sans-serif\; font-size: 18px\; font-style: normal\; font-variant-ligatures: normal\; font-variant-caps: normal\; font-weight: 300\; letter-spacing: normal\; orphans: 2\; text-align: left\; text-indent: 0px\; text-transform: none\; widows: 2\; word-spacing: 0px\; -webkit-text-stroke-width: 0px\; white-space: normal\; background-color: rgb(255\, 255\, 255)\; text-decoration-thickness: initial\; text-decoration-style: initial\; text-decoration-color: initial\; color: rgb(0\, 38\, 92)\;"><strong fr-original-style="box-sizing: border-box\; font-weight: 700\;" style="box-sizing: border-box\; font-weight: 700\;"><span style="font-family: Tahoma\,Geneva\,sans-serif\;"><span style="font-size: 18px\;"><strong fr-original-style="" style="font-weight: 700\;"><span style="color: rgb(0\, 38\, 92)\;">Wednesday\, May 13</span></strong></span></span></strong></span></strong></span></span></span></strong></span></strong></span></span></span><strong fr-original-style="" style="font-weight: 700\;"><br></strong><span style="font-family: Tahoma\,Geneva\,sans-serif\;"><span style="font-size: 18px\;"><span style="color: rgb(0\, 38\, 92)\;">Location:</span><span style="color: rgb(0\, 0\, 0)\;">&nbsp\;ZOOM Link</span></span></span><br><span style="font-family: Tahoma\,Geneva\,sans-serif\;"><span style="font-size: 18px\;"><span style="color: rgb(0\, 38\, 92)\;">Time:</span><span style="color: rgb(0\, 0\, 0)\;">&nbsp\;2:00pm - 3:00pm ET</span></span></span><br><br></p><hr fr-original-style="" style="clear: both\; user-select: none\; break-after: page\;"><p style="text-align: center\;"><span style="box-sizing: border-box\; font-size: 24px\;"><span style="box-sizing: border-box\; font-family: Tahoma\, Geneva\, sans-serif\;"><strong fr-original-style="box-sizing: border-box\; font-weight: 700\;" style="box-sizing: border-box\; font-weight: 700\;"><span style="box-sizing: border-box\; color: rgb(0\, 38\, 92)\;">AGENDA</span></strong><strong fr-original-style="box-sizing: border-box\; font-weight: 700\;" style="box-sizing: border-box\; font-weight: 700\;"><span style="box-sizing: border-box\; color: rgb(0\, 38\, 92)\;">&nbsp\;</span></strong></span></span></p><p><meta charset="utf-8"></p><p><span style="font-family: Tahoma\,Geneva\,sans-serif\;"><span style="font-size: 18px\;"><span style="color: rgb(13\, 97\, 79)\;"><strong fr-original-style="" style="font-weight: 700\;"><meta charset="utf-8"></strong></span></span></span></p><p><span style="font-family: Tahoma\,Geneva\,sans-serif\;"><span style="font-size: 18px\;"><span style="color: rgb(13\, 97\, 79)\;"><strong fr-original-style="" style="font-weight: 700\;"><span style="box-sizing: border-box\; color: rgb(0\, 0\, 0)\; font-family: Tahoma\, Geneva\, sans-serif\; font-size: 18px\; font-style: normal\; font-variant-ligatures: normal\; font-variant-caps: normal\; font-weight: 400\; letter-spacing: normal\; orphans: 2\; text-align: start\; text-indent: 0px\; text-transform: none\; widows: 2\; word-spacing: 0px\; -webkit-text-stroke-width: 0px\; white-space: normal\; text-decoration-thickness: initial\; text-decoration-style: initial\; text-decoration-color: initial\; float: none\; display: inline !important\;box-sizing: border-box\; font-family: Archivo\, sans-serif\; font-size: 18px\; font-style: normal\; font-variant-ligatures: normal\; font-variant-caps: normal\; font-weight: 300\; letter-spacing: normal\; orphans: 2\; text-align: left\; text-indent: 0px\; text-transform: none\; widows: 2\; word-spacing: 0px\; -webkit-text-stroke-width: 0px\; white-space: normal\; background-color: rgb(255\, 255\, 255)\; text-decoration-thickness: initial\; text-decoration-style: initial\; text-decoration-color: initial\; color: rgb(0\, 38\, 92)\;"><strong fr-original-style="box-sizing: border-box\; font-weight: 700\;" style="box-sizing: border-box\; font-weight: 700\;"><span style="font-family: Tahoma\,Geneva\,sans-serif\;"><span style="font-size: 18px\;"><span style="color: rgb(13\, 97\, 79)\;"><strong fr-original-style="" style="font-weight: 700\;"><span style="font-family: Tahoma\,Geneva\,sans-serif\;"><span style="font-size: 18px\;"><span style="color: rgb(13\, 97\, 79)\;"><strong fr-original-style="" style="font-weight: 700\;">Welcome Remarks</strong></span></span></span></strong></span></span></span></strong></span></strong></span></span></span></p><ul fr-original-style="" style="list-style-position: inside\;"><li style="font-family: Tahoma\, Geneva\, sans-serif\; font-size: 18px\;"><span style="box-sizing: border-box\; font-size: 18px\;"><span style="box-sizing: border-box\; font-family: Tahoma\, Geneva\, sans-serif\;"><span style="box-sizing: border-box\;"><span style="color: rgb(122\, 46\, 99)\;">Katie Maher</span>\, Deputy Chief Compliance Officer\, Cabot Properties</span></span></span></li><li style="font-family: Tahoma\, Geneva\, sans-serif\; font-size: 18px\;"><span style="color: rgb(122\, 46\, 99)\;">Jeff Jacobs</span>\, Chief Legal Officer\, PGIM Real Estate</li></ul><p><meta charset="utf-8"><span style="font-family: Tahoma\,Geneva\,sans-serif\;"><span style="font-size: 18px\;"><strong fr-original-style="" style="font-weight: 700\;"><span style="color: rgb(13\, 97\, 79)\;"><meta charset="utf-8"></span></strong><span style="color: rgb(13\, 97\, 79)\;"><strong fr-original-style="" style="font-weight: 700\;"><span style="font-family: Tahoma\,Geneva\,sans-serif\;"><span style="font-size: 18px\;"><span style="color: rgb(13\, 97\, 79)\;"><strong fr-original-style="" style="font-weight: 700\;"><span style="box-sizing: border-box\; color: rgb(0\, 0\, 0)\; font-family: Tahoma\, Geneva\, sans-serif\; font-size: 18px\; font-style: normal\; font-variant-ligatures: normal\; font-variant-caps: normal\; font-weight: 400\; letter-spacing: normal\; orphans: 2\; text-align: start\; text-indent: 0px\; text-transform: none\; widows: 2\; word-spacing: 0px\; -webkit-text-stroke-width: 0px\; white-space: normal\; text-decoration-thickness: initial\; text-decoration-style: initial\; text-decoration-color: initial\; float: none\; display: inline !important\;box-sizing: border-box\; font-family: Archivo\, sans-serif\; font-size: 18px\; font-style: normal\; font-variant-ligatures: normal\; font-variant-caps: normal\; font-weight: 300\; letter-spacing: normal\; orphans: 2\; text-align: left\; text-indent: 0px\; text-transform: none\; widows: 2\; word-spacing: 0px\; -webkit-text-stroke-width: 0px\; white-space: normal\; background-color: rgb(255\, 255\, 255)\; text-decoration-thickness: initial\; text-decoration-style: initial\; text-decoration-color: initial\; color: rgb(0\, 38\, 92)\;"><strong fr-original-style="box-sizing: border-box\; font-weight: 700\;" style="box-sizing: border-box\; font-weight: 700\;"><span style="font-family: Tahoma\,Geneva\,sans-serif\;"><span style="font-size: 18px\;"><span style="color: rgb(13\, 97\, 79)\;"><strong fr-original-style="" style="font-weight: 700\;"><span style="font-family: Tahoma\,Geneva\,sans-serif\;"><span style="font-size: 18px\;"><span style="color: rgb(13\, 97\, 79)\;"><strong fr-original-style="" style="font-weight: 700\;">Presentation: AIFMD2 - Implications for U.S.-Based Investment Managers</strong></span></span></span></strong></span></span></span></strong></span></strong></span></span></span></strong></span></span></span><br><span style="font-size: 18px\; font-family: Tahoma\, Geneva\, sans-serif\;">The European Union&#39\;s Alternative Investment Managers Directive (AIFMD) has undergone a review process and the amended Directive\, AIFMD2\, came into force on April 15\, 2024\, requiring implementation by European Economic Area (EEA) member states by April 16\, 2026. Although AIFMD2 does not constitute a complete overhaul of the original rules\, it affects several aspects of real estate investment management for non-EU managers and sponsors with EU investors or fund structures. The presentation will focus on these key impacts\, including marketing under the National Private Placement Regime\, investor and regulatory reporting requirements\, and &lsquo\;liquidity management&rsquo\; requirements.</span></p><p><span style="font-family: Tahoma\,Geneva\,sans-serif\;"><span style="font-size: 18px\;"><span style="color: rgb(0\, 38\, 92)\;">Speakers:</span></span></span></p><ul fr-original-style="" style="list-style-position: inside\;"><li style="font-family: Tahoma\, Geneva\, sans-serif\; font-size: 18px\;"><span style="color: rgb(122\, 46\, 99)\;">Justin Cornelius\,</span> Partner\, Goodwin Procter</li><li style="font-family: Tahoma\, Geneva\, sans-serif\; font-size: 18px\;"><span style="color: rgb(122\, 46\, 99)\;">Andrew Henderson\,</span> Partner\, Goodwin Procter</li></ul><p><span style="font-family: Tahoma\,Geneva\,sans-serif\;"><span style="font-size: 18px\;"><span style="color: rgb(13\, 97\, 79)\;"><strong fr-original-style="" style="font-weight: 700\;"><span style="font-family: Tahoma\,Geneva\,sans-serif\;"><span style="font-size: 18px\;"><span style="color: rgb(13\, 97\, 79)\;"><strong fr-original-style="" style="font-weight: 700\;"><span style="box-sizing: border-box\; color: rgb(0\, 0\, 0)\; font-family: Tahoma\, Geneva\, sans-serif\; font-size: 18px\; font-style: normal\; font-variant-ligatures: normal\; font-variant-caps: normal\; font-weight: 400\; letter-spacing: normal\; orphans: 2\; text-align: start\; text-indent: 0px\; text-transform: none\; widows: 2\; word-spacing: 0px\; -webkit-text-stroke-width: 0px\; white-space: normal\; text-decoration-thickness: initial\; text-decoration-style: initial\; text-decoration-color: initial\; float: none\; display: inline !important\;box-sizing: border-box\; font-family: Archivo\, sans-serif\; font-size: 18px\; font-style: normal\; font-variant-ligatures: normal\; font-variant-caps: normal\; font-weight: 300\; letter-spacing: normal\; orphans: 2\; text-align: left\; text-indent: 0px\; text-transform: none\; widows: 2\; word-spacing: 0px\; -webkit-text-stroke-width: 0px\; white-space: normal\; background-color: rgb(255\, 255\, 255)\; text-decoration-thickness: initial\; text-decoration-style: initial\; text-decoration-color: initial\; color: rgb(0\, 38\, 92)\;"><strong fr-original-style="box-sizing: border-box\; font-weight: 700\;" style="box-sizing: border-box\; font-weight: 700\;"><span style="font-family: Tahoma\,Geneva\,sans-serif\;"><span style="font-size: 18px\;"><span style="color: rgb(13\, 97\, 79)\;"><strong fr-original-style="" style="font-weight: 700\;"><span style="font-family: Tahoma\,Geneva\,sans-serif\;"><span style="font-size: 18px\;"><span style="color: rgb(13\, 97\, 79)\;"><strong fr-original-style="" style="font-weight: 700\;">Discussion: What Are You Seeing?</strong></span></span></span></strong></span></span></span></strong></span></strong></span></span></span></strong></span></span></span><strong fr-original-style="" style="font-weight: 700\;"><br></strong><span style="font-size: 18px\;"><span style="font-family: Tahoma\,Geneva\,sans-serif\;">Attendees will be invited to share how their firms are interpreting AIFMD2 requirements and what changes they are implementing to fund structuring and fundraising strategies. Peer-to-peer sharing will be encouraged to surface key implementation challenges&mdash\;including areas of regulatory ambiguity\, operational complexity\, and divergent market practices&mdash\;while highlighting where further regulatory guidance or industry consensus is still needed.</span></span></p><p><span style="font-family: Tahoma\,Geneva\,sans-serif\;"><span style="font-size: 18px\;"><span style="color: rgb(13\, 97\, 79)\;"><strong fr-original-style="" style="font-weight: 700\;"><span style="font-family: Tahoma\,Geneva\,sans-serif\;"><span style="font-size: 18px\;"><span style="color: rgb(13\, 97\, 79)\;"><strong fr-original-style="" style="font-weight: 700\;"><span style="box-sizing: border-box\; color: rgb(0\, 0\, 0)\; font-family: Tahoma\, Geneva\, sans-serif\; font-size: 18px\; font-style: normal\; font-variant-ligatures: normal\; font-variant-caps: normal\; font-weight: 400\; letter-spacing: normal\; orphans: 2\; text-align: start\; text-indent: 0px\; text-transform: none\; widows: 2\; word-spacing: 0px\; -webkit-text-stroke-width: 0px\; white-space: normal\; text-decoration-thickness: initial\; text-decoration-style: initial\; text-decoration-color: initial\; float: none\; display: inline !important\;box-sizing: border-box\; font-family: Archivo\, sans-serif\; font-size: 18px\; font-style: normal\; font-variant-ligatures: normal\; font-variant-caps: normal\; font-weight: 300\; letter-spacing: normal\; orphans: 2\; text-align: left\; text-indent: 0px\; text-transform: none\; widows: 2\; word-spacing: 0px\; -webkit-text-stroke-width: 0px\; white-space: normal\; background-color: rgb(255\, 255\, 255)\; text-decoration-thickness: initial\; text-decoration-style: initial\; text-decoration-color: initial\; color: rgb(0\, 38\, 92)\;"><strong fr-original-style="box-sizing: border-box\; font-weight: 700\;" style="box-sizing: border-box\; font-weight: 700\;"><span style="font-family: Tahoma\,Geneva\,sans-serif\;"><span style="font-size: 18px\;"><span style="color: rgb(13\, 97\, 79)\;"><strong fr-original-style="" style="font-weight: 700\;"><span style="font-family: Tahoma\,Geneva\,sans-serif\;"><span style="font-size: 18px\;"><span style="color: rgb(13\, 97\, 79)\;"><strong fr-original-style="" style="font-weight: 700\;">Virtual Exchange Adjourns</strong></span></span></span></strong></span></span></span></strong></span></strong></span></span></span></strong></span></span></span></p><p><meta charset="utf-8"></p><p align="center" style="box-sizing: border-box\; margin: 0px 0px 1rem\; color: rgb(61\, 61\, 61)\; font-family: Archivo\, sans-serif\; font-size: 16px\; font-style: normal\; font-variant-ligatures: normal\; font-variant-caps: normal\; font-weight: 300\; letter-spacing: normal\; orphans: 2\; text-indent: 0px\; text-transform: none\; widows: 2\; word-spacing: 0px\; -webkit-text-stroke-width: 0px\; white-space: normal\; background-color: rgb(255\, 255\, 255)\; text-decoration-thickness: initial\; text-decoration-style: initial\; text-decoration-color: initial\; text-align: left\;"><span style="background: transparent\; font-family: museo-slab-w01-100\, serif\; text-align: start\; box-sizing: border-box\; border: 0px\; margin: 0px\; outline: 0px\; padding: 0px\; vertical-align: baseline\; color: rgb(0\, 38\, 92)\;"><span style="box-sizing: border-box\; background: transparent\; border: 0px\; margin: 0px\; outline: 0px\; padding: 0px\; vertical-align: baseline\;"><span style="box-sizing: border-box\; background: transparent\; border: 0px\; margin: 0px\; outline: 0px\; padding: 0px\; vertical-align: baseline\; font-family: Tahoma\, Geneva\, sans-serif\; font-size: 18px\;"><strong fr-original-style="" style="font-weight: 700\;">Note:&nbsp\;</strong>The 2026 Legal\, Compliance &amp\; Risk committee will soon come together to begin planning the group&#39\;s&nbsp\;</span></span></span><a fr-original-style="background-color: transparent\; font-family: museo-slab-w01-100\, serif\; text-align: start\;" href="https://members.nareim.org/meetings/details/legal-compliance-risk-1575704" rel="noopener noreferrer" style="background-color: transparent\; font-family: museo-slab-w01-100\, serif\; text-align: start\; user-select: auto\;" target="_blank"><span style="box-sizing: border-box\; background: transparent\; border: 0px\; margin: 0px\; outline: 0px\; padding: 0px\; vertical-align: baseline\; color: rgb(0\, 38\, 92)\;"><span style="box-sizing: border-box\; background: transparent\; border: 0px\; margin: 0px\; outline: 0px\; padding: 0px\; vertical-align: baseline\;"><span style="box-sizing: border-box\; background: transparent\; border: 0px\; margin: 0px\; outline: 0px\; padding: 0px\; vertical-align: baseline\; font-family: Tahoma\, Geneva\, sans-serif\; font-size: 18px\;"><strong fr-original-style="" style="font-weight: 700\;"><u>annual in-person meeting</u></strong></span></span></span></a><span style="background: transparent\; font-family: museo-slab-w01-100\, serif\; text-align: start\; box-sizing: border-box\; border: 0px\; margin: 0px\; outline: 0px\; padding: 0px\; vertical-align: baseline\; color: rgb(0\, 38\, 92)\;"><span style="box-sizing: border-box\; background: transparent\; border: 0px\; margin: 0px\; outline: 0px\; padding: 0px\; vertical-align: baseline\;"><span style="box-sizing: border-box\; background: transparent\; border: 0px\; margin: 0px\; outline: 0px\; padding: 0px\; vertical-align: baseline\; font-family: Tahoma\, Geneva\, sans-serif\; font-size: 18px\;">\, which will take place in New York City on November 4\, 2026.&nbsp\;</span></span></span><a fr-original-style="background-color: transparent\; font-family: museo-slab-w01-100\, serif\; text-align: start\;" href="https://members.nareim.org/meetings/details/legal-compliance-risk-1575704" rel="noopener noreferrer" style="background-color: transparent\; font-family: museo-slab-w01-100\, serif\; text-align: start\; user-select: auto\;" target="_blank"><span style="box-sizing: border-box\; background: transparent\; border: 0px\; margin: 0px\; outline: 0px\; padding: 0px\; vertical-align: baseline\; color: rgb(0\, 38\, 92)\;"><span style="box-sizing: border-box\; background: transparent\; border: 0px\; margin: 0px\; outline: 0px\; padding: 0px\; vertical-align: baseline\;"><span style="box-sizing: border-box\; background: transparent\; border: 0px\; margin: 0px\; outline: 0px\; padding: 0px\; vertical-align: baseline\; font-family: Tahoma\, Geneva\, sans-serif\; font-size: 18px\;"><strong fr-original-style="" style="font-weight: 700\;"><u>Registration is open</u></strong></span></span></span></a><span style="background: transparent\; font-family: museo-slab-w01-100\, serif\; text-align: start\; box-sizing: border-box\; border: 0px\; margin: 0px\; outline: 0px\; padding: 0px\; vertical-align: baseline\; color: rgb(0\, 38\, 92)\;"><span style="box-sizing: border-box\; background: transparent\; border: 0px\; margin: 0px\; outline: 0px\; padding: 0px\; vertical-align: baseline\;"><span style="box-sizing: border-box\; background: transparent\; border: 0px\; margin: 0px\; outline: 0px\; padding: 0px\; vertical-align: baseline\; font-family: Tahoma\, Geneva\, sans-serif\; font-size: 18px\;">.</span></span></span></p></body></html>
LOCATION:
UID:e.4456.1423642
SEQUENCE:3
DTSTAMP:20260419T153113Z
URL:https://members.nareim.org/calendar/Details/virtual-exchange-series-implications-of-aifmd2-1683311?sourceTypeId=Hub
END:VEVENT
END:VCALENDAR
