BEGIN:VCALENDAR
VERSION:2.0
PRODID:-//ChamberMaster//Event Calendar 2.0//EN
METHOD:PUBLISH
X-PUBLISHED-TTL:P1H
REFRESH-INTERVAL:P1H
CALSCALE:GREGORIAN
BEGIN:VTIMEZONE
TZID:America/New_York
BEGIN:DAYLIGHT
RRULE:FREQ=YEARLY;BYMONTH=3;BYDAY=2SU
DTSTART:20070101T000000
TZOFFSETFROM:-0500
TZOFFSETTO:-0400
TZNAME:Eastern Daylight Time
END:DAYLIGHT
BEGIN:STANDARD
RRULE:FREQ=YEARLY;BYMONTH=11;BYDAY=1SU
DTSTART:20070101T000000
TZOFFSETFROM:-0400
TZOFFSETTO:-0500
TZNAME:Eastern Standard Time
END:STANDARD
END:VTIMEZONE
BEGIN:VEVENT
DTSTART;TZID=America/New_York:20260416T140000
DTEND;TZID=America/New_York:20260416T151500
X-MICROSOFT-CDO-ALLDAYEVENT:FALSE
SUMMARY:Compensation Survey Q&A Virtual
DESCRIPTION:The Compensation Survey Q&A Virtual Meeting provides members with a timely opportunity to engage directly with Ferguson Partners following the launch of NAREIM's annual Compensation Survey.Once registered\, participants will receive an Outlook calendar invitation directly from NAREIM. ZOOM dial-in details will be shared one week prior to the meeting.This meeting will not be recorded.Note: This meeting is open only to members of NAREIM's Executive Officer Group and Talent Management/HR Group. Members of other NAREIM functional groups are not eligible to attend and will not be allowed access.DETAILSThursday\, April 16\nLocation: ZOOM Link\nTime: 2:00pm - 3:15pm ET\n\nAGENDA2:00pm: Welcome Remarks Chair: Vadim Blikshteyn\, Managing Partner and Chief Financial Officer\, Torchlight InvestorsCo-Chair: Crystal Frey\, Executive Vice President of People\, Culture & Brand\, Continental Realty Corporation\n2:05pm: Compensation Survey Overview - Methodology & Best Practices\nA review of updates to this year's survey\, along with best practices for completing it efficiently and accurately.Speakers:Scott McIntosh\, Senior Director\, Compensation Consulting\, Ferguson Partners Charlie Apfelbach\, Managing Director\, Compensation Consulting\, Ferguson Partners\n2:15pm: Open Q&A on Survey's Key Concepts & Definitions\nAn opportunity to ask questions about definitions\, data inputs\, and the submission process\, along with peer sharing of tips and approaches for completing the survey.\n2:45pm: What's On Your Mind\nThe virtual meeting will conclude with an informal member roundtable discussion\, allowing attendees to raise additional compensation-related topics\, trends\, and challenges that are top of mind.\n3:15pm: Virtual Adjourns\nCOMMITTEE Chair: Vadim Blikshteyn\, Torchlight Investors\nCo-Chair: Crystal Frey\, Continental Realty CorporationLauren O'Neil\, AEW Capital Management\nRavi Ragnauth\, Berkshire Residential Investments\nJim Strezewski\, Blue Vista Capital Management\nKara Brown\, Cabot Properties\nJenna Braddy\, Greystar\nIlleanne Rukes\, Rialto Capital
X-ALT-DESC;FMTTYPE=text/html:<!DOCTYPE html><html><head><title></title></head><body aria-disabled="false"><p><span style="font-size: 18px\;"><span style="font-family: Tahoma\,Geneva\,sans-serif\;">The Compensation Survey Q&amp\;A Virtual Meeting provides members with a timely opportunity to engage directly with Ferguson Partners following the launch of NAREIM&rsquo\;s annual Compensation Survey.</span></span></p><p><span style="font-size: 18px\;"><span style="font-family: Tahoma\,Geneva\,sans-serif\;">Once registered\, participants will receive an Outlook calendar invitation directly from NAREIM. ZOOM dial-in details will be shared one week prior to the meeting.</span></span></p><p><span style="font-family: Tahoma\, Geneva\, sans-serif\; font-size: 18px\;">This meeting will not be recorded.</span></p><p><span style="font-family: Tahoma\, Geneva\, sans-serif\; font-size: 18px\;"><span style="font-size: 18px\;"><span style="font-family: Tahoma\,Geneva\,sans-serif\;"><strong fr-original-style="" style="font-weight: 700\;">Note:</strong> This meeting is open only to members of NAREIM&rsquo\;s Executive Officer Group and Talent Management/HR Group. Members of other NAREIM functional groups are not eligible to attend and will not be allowed access.</span></span></span></p><p style="text-align: center\;"><span style="font-family: Tahoma\,Geneva\,sans-serif\;"><span style="font-size: 24px\;"><strong fr-original-style="" style="font-weight: 700\;"><span style="color: rgb(0\, 38\, 92)\;">DETAILS</span></strong></span></span></p><p><span style="font-family: Tahoma\,Geneva\,sans-serif\;"><span style="font-size: 18px\;"><strong fr-original-style="" style="font-weight: 700\;"><span style="color: rgb(0\, 38\, 92)\;">Thursday\, April 16</span></strong></span></span><br><span style="font-family: Tahoma\,Geneva\,sans-serif\;"><span style="font-size: 18px\;"><span style="color: rgb(0\, 38\, 92)\;">Location:</span><span style="color: rgb(0\, 0\, 0)\;">&nbsp\;ZOOM Link</span></span></span><br><span style="font-family: Tahoma\,Geneva\,sans-serif\;"><span style="font-size: 18px\;"><span style="color: rgb(0\, 38\, 92)\;">Time:</span><span style="color: rgb(0\, 0\, 0)\;">&nbsp\;2:00pm - 3:15pm ET</span></span></span><br><br></p><hr fr-original-style="" style="clear: both\; user-select: none\; break-after: page\;"><p style="text-align: center\;"><span style="font-family: Tahoma\,Geneva\,sans-serif\;"><span style="font-size: 24px\;"><strong fr-original-style="" style="font-weight: 700\;"><span style="color: rgb(0\, 38\, 92)\;">AGENDA</span></strong></span></span></p><p><span style="font-family: Tahoma\,Geneva\,sans-serif\;"><span style="font-size: 18px\;"><span style="color: rgb(13\, 97\, 79)\;"><strong fr-original-style="" style="font-weight: 700\;">2:00pm: <meta charset="utf-8">Welcome Remarks </strong></span></span></span></p><ul fr-original-style="" style="list-style-position: inside\;"><li style="font-family: Tahoma\, Geneva\, sans-serif\; font-size: 18px\;"><span style="box-sizing: border-box\; font-size: 18px\;"><span style="box-sizing: border-box\; font-family: Tahoma\, Geneva\, sans-serif\;"><span style="box-sizing: border-box\; color: rgb(0\, 38\, 92)\;">Chair: <span style="box-sizing: border-box\; font-size: 18px\;"><span style="box-sizing: border-box\; font-family: Tahoma\, Geneva\, sans-serif\;"><span style="box-sizing: border-box\; color: rgb(122\, 46\, 99)\;">Vadim Blikshteyn</span>\,&nbsp\;</span></span></span><span style="box-sizing: border-box\; color: rgb(0\, 0\, 0)\;"><span style="box-sizing: border-box\; font-size: 18px\;"><span style="box-sizing: border-box\; font-family: Tahoma\, Geneva\, sans-serif\;">Managing Partner and Chief Financial Officer\, Torchlight Investors</span></span></span></span></span></li><li style="font-family: Tahoma\, Geneva\, sans-serif\; font-size: 18px\;"><span style="box-sizing: border-box\; font-size: 18px\;"><span style="box-sizing: border-box\; font-family: Tahoma\, Geneva\, sans-serif\;"><span style="box-sizing: border-box\; color: rgb(0\, 38\, 92)\;">Co-Chair:</span> <span style="box-sizing: border-box\; font-size: 18px\;"><span style="box-sizing: border-box\; font-family: Tahoma\, Geneva\, sans-serif\;"><span style="box-sizing: border-box\; color: rgb(122\, 46\, 99)\;">Crystal Frey</span>\, <span style="color: rgb(0\, 0\, 0)\;">Executive Vice President of People\, Culture &amp\; Brand\, Continental Realty Corporation</span></span></span></span></span></li></ul><p><br><span style="font-family: Tahoma\,Geneva\,sans-serif\;"><span style="font-size: 18px\;"><strong fr-original-style="" style="font-weight: 700\;"><span style="color: rgb(13\, 97\, 79)\;">2:05pm:&nbsp\;</span></strong><strong fr-original-style="" style="font-weight: 700\;"><span style="color: rgb(13\, 97\, 79)\;">Compensation Survey Overview - Methodology &amp\; Best Practices</span></strong></span></span><br><span style="font-size: 18px\;"><span style="font-family: Tahoma\,Geneva\,sans-serif\;">A review of updates to this year&rsquo\;s survey\, along with best practices for completing it efficiently and accurately.</span></span></p><p><span style="font-family: Tahoma\,Geneva\,sans-serif\;"><span style="font-size: 18px\;"><span style="color: rgb(0\, 38\, 92)\;">Speakers:</span></span></span></p><ul fr-original-style="" style="list-style-position: inside\;"><li style="font-family: Tahoma\, Geneva\, sans-serif\; font-size: 18px\;"><span style="color: rgb(122\, 46\, 99)\;">Scott McIntosh\,</span><span style="color: rgb(0\, 0\, 0)\;">&nbsp\;Senior Director\, Compensation Consulting\, Ferguson Partners&nbsp\;</span></li><li style="font-family: Tahoma\, Geneva\, sans-serif\; font-size: 18px\;"><span style="color: rgb(122\, 46\, 99)\;">Charlie Apfelbach</span>\, <span style="color: rgb(0\, 0\, 0)\;">Managing Director\, Compensation Consulting\, Ferguson Partners</span></li></ul><p><br><span style="font-family: Tahoma\,Geneva\,sans-serif\;"><span style="font-size: 18px\;"><span style="color: rgb(13\, 97\, 79)\;"><strong fr-original-style="" style="font-weight: 700\;">2:15pm: Open <meta charset="utf-8">Q&amp\;A on Survey&#39\;s Key Concepts &amp\; Definitions</strong></span></span></span><br><span style="font-size: 18px\;"><span style="font-family: Tahoma\,Geneva\,sans-serif\;">An opportunity to ask questions about definitions\, data inputs\, and the submission process\, along with peer sharing of tips and approaches for completing the survey.</span></span></p><p><br><span style="font-family: Tahoma\,Geneva\,sans-serif\;"><span style="font-size: 18px\;"><span style="color: rgb(13\, 97\, 79)\;"><strong fr-original-style="" style="font-weight: 700\;">2:45pm: What&#39\;s On Your Mind</strong></span></span></span><br><span style="font-size: 18px\;"><span style="font-family: Tahoma\,Geneva\,sans-serif\;">The virtual meeting will conclude with an informal member roundtable discussion\, allowing attendees to raise additional compensation-related topics\, trends\, and challenges that are top of mind.</span></span></p><p><br><span style="font-family: Tahoma\,Geneva\,sans-serif\;"><span style="font-size: 18px\;"><span style="color: rgb(13\, 97\, 79)\;"><strong fr-original-style="" style="font-weight: 700\;">3:15pm: Virtual Adjourns</strong></span></span></span></p><hr fr-original-style="" style="clear: both\; user-select: none\; break-after: page\;"><p style="text-align: center\;"><br></p><p><meta charset="utf-8"></p><p align="center" style="box-sizing: border-box\; margin: 0px 0px 1rem\; color: rgb(61\, 61\, 61)\; font-family: Archivo\, sans-serif\; font-size: 16px\; font-style: normal\; font-variant-ligatures: normal\; font-variant-caps: normal\; font-weight: 300\; letter-spacing: normal\; orphans: 2\; text-indent: 0px\; text-transform: none\; widows: 2\; word-spacing: 0px\; -webkit-text-stroke-width: 0px\; white-space: normal\; background-color: rgb(255\, 255\, 255)\; text-decoration-thickness: initial\; text-decoration-style: initial\; text-decoration-color: initial\; text-align: center\;"><span style="box-sizing: border-box\; font-size: 24px\;"><span style="box-sizing: border-box\; font-family: Tahoma\, Geneva\, sans-serif\;"><strong fr-original-style="box-sizing: border-box\; font-weight: 700\;" style="box-sizing: border-box\; font-weight: 700\;"><span style="box-sizing: border-box\; color: rgb(0\, 38\, 92)\;">COMMITTEE</span></strong><strong fr-original-style="box-sizing: border-box\; font-weight: 700\;" style="box-sizing: border-box\; font-weight: 700\;"><span style="box-sizing: border-box\; color: rgb(0\, 38\, 92)\;">&nbsp\;</span></strong></span></span></p><p><meta charset="utf-8"></p><p style="box-sizing: border-box\; margin: 0px 0px 1rem\; color: rgb(61\, 61\, 61)\; font-family: Archivo\, sans-serif\; font-size: 16px\; font-style: normal\; font-variant-ligatures: normal\; font-variant-caps: normal\; font-weight: 300\; letter-spacing: normal\; orphans: 2\; text-align: start\; text-indent: 0px\; text-transform: none\; widows: 2\; word-spacing: 0px\; -webkit-text-stroke-width: 0px\; white-space: normal\; background-color: rgb(255\, 255\, 255)\; text-decoration-thickness: initial\; text-decoration-style: initial\; text-decoration-color: initial\;"><span style="box-sizing: border-box\; font-size: 18px\;"><span style="box-sizing: border-box\; font-family: Tahoma\, Geneva\, sans-serif\;"><span style="box-sizing: border-box\; color: rgb(0\, 38\, 92)\;">Chair: <span style="box-sizing: border-box\; font-size: 18px\;"><span style="box-sizing: border-box\; font-family: Tahoma\, Geneva\, sans-serif\;"><span style="box-sizing: border-box\; color: rgb(122\, 46\, 99)\;">Vadim Blikshteyn</span></span></span></span><span style="box-sizing: border-box\; color: rgb(0\, 0\, 0)\;"><span style="box-sizing: border-box\; font-size: 18px\;"><span style="box-sizing: border-box\; font-family: Tahoma\, Geneva\, sans-serif\;">\, Torchlight Investors</span></span></span><br style="box-sizing: border-box\;"><span style="box-sizing: border-box\; color: rgb(0\, 38\, 92)\;">Co-Chair:</span> <span style="box-sizing: border-box\; font-size: 18px\;"><span style="box-sizing: border-box\; font-family: Tahoma\, Geneva\, sans-serif\;"><span style="box-sizing: border-box\; color: rgb(122\, 46\, 99)\;">Crystal Frey</span>\, Continental Realty Corporation</span></span></span></span></p><p style="box-sizing: border-box\; margin: 0px 0px 1rem\; color: rgb(61\, 61\, 61)\; font-family: Archivo\, sans-serif\; font-size: 16px\; font-style: normal\; font-variant-ligatures: normal\; font-variant-caps: normal\; font-weight: 300\; letter-spacing: normal\; orphans: 2\; text-align: start\; text-indent: 0px\; text-transform: none\; widows: 2\; word-spacing: 0px\; -webkit-text-stroke-width: 0px\; white-space: normal\; background-color: rgb(255\, 255\, 255)\; text-decoration-thickness: initial\; text-decoration-style: initial\; text-decoration-color: initial\;"><span style="box-sizing: border-box\; font-size: 18px\;"><span style="box-sizing: border-box\; font-family: Tahoma\, Geneva\, sans-serif\;"><span style="box-sizing: border-box\; color: rgb(122\, 46\, 99)\;">Lauren O&#39\;Neil</span>\, AEW Capital Management<br style="box-sizing: border-box\;"><span style="box-sizing: border-box\; color: rgb(122\, 46\, 99)\;">Ravi Ragnauth</span>\, Berkshire Residential Investments</span></span><br><span style="box-sizing: border-box\; font-size: 18px\;"><span style="box-sizing: border-box\; font-family: Tahoma\, Geneva\, sans-serif\;"><span style="box-sizing: border-box\; font-size: 18px\;"><span style="box-sizing: border-box\; font-family: Tahoma\, Geneva\, sans-serif\;"><span style="box-sizing: border-box\; color: rgb(122\, 46\, 99)\;">Jim Strezewski</span>\, Blue Vista Capital Management</span></span><br style="box-sizing: border-box\;"><span style="box-sizing: border-box\; color: rgb(122\, 46\, 99)\;">Kara Brown</span>\, Cabot Properties</span></span><br><span style="box-sizing: border-box\; font-size: 18px\;"><span style="box-sizing: border-box\; font-family: Tahoma\, Geneva\, sans-serif\;"><span style="box-sizing: border-box\; color: rgb(122\, 46\, 99)\;">Jenna Braddy</span>\, Greystar</span></span><br><span style="box-sizing: border-box\; font-size: 18px\;"><span style="box-sizing: border-box\; font-family: Tahoma\, Geneva\, sans-serif\;"><span style="box-sizing: border-box\; color: rgb(122\, 46\, 99)\;">Illeanne Rukes</span>\, Rialto Capital</span></span></p></body></html>
LOCATION:
UID:e.4456.1378883
SEQUENCE:3
DTSTAMP:20260419T153546Z
URL:https://members.nareim.org/calendar/Details/compensation-survey-q-a-virtual-1627858?sourceTypeId=Hub
END:VEVENT
END:VCALENDAR
